BEGIN:VCALENDAR
VERSION:2.0
PRODID:-//City of Euharlee - ECPv6.15.20//NONSGML v1.0//EN
CALSCALE:GREGORIAN
METHOD:PUBLISH
X-WR-CALNAME:City of Euharlee
X-ORIGINAL-URL:https://euharlee.com
X-WR-CALDESC:Events for City of Euharlee
REFRESH-INTERVAL;VALUE=DURATION:PT1H
X-Robots-Tag:noindex
X-PUBLISHED-TTL:PT1H
BEGIN:VTIMEZONE
TZID:America/New_York
BEGIN:DAYLIGHT
TZOFFSETFROM:-0500
TZOFFSETTO:-0400
TZNAME:EDT
DTSTART:20250309T070000
END:DAYLIGHT
BEGIN:STANDARD
TZOFFSETFROM:-0400
TZOFFSETTO:-0500
TZNAME:EST
DTSTART:20251102T060000
END:STANDARD
BEGIN:DAYLIGHT
TZOFFSETFROM:-0500
TZOFFSETTO:-0400
TZNAME:EDT
DTSTART:20260308T070000
END:DAYLIGHT
BEGIN:STANDARD
TZOFFSETFROM:-0400
TZOFFSETTO:-0500
TZNAME:EST
DTSTART:20261101T060000
END:STANDARD
BEGIN:DAYLIGHT
TZOFFSETFROM:-0500
TZOFFSETTO:-0400
TZNAME:EDT
DTSTART:20270314T070000
END:DAYLIGHT
BEGIN:STANDARD
TZOFFSETFROM:-0400
TZOFFSETTO:-0500
TZNAME:EST
DTSTART:20271107T060000
END:STANDARD
END:VTIMEZONE
BEGIN:VEVENT
DTSTART;TZID=America/New_York:20260507T130000
DTEND;TZID=America/New_York:20260507T150000
DTSTAMP:20260423T083855
CREATED:20260227T000908Z
LAST-MODIFIED:20260303T175647Z
UID:10000713-1778158800-1778166000@euharlee.com
SUMMARY:Mobile Food Pantry with Red Door
DESCRIPTION:Are you in need of extra support? Visit our Monthly Mobile Food Pantry with Red Door Food Pantry. Pre-registration not required. For more information\, visit ashley.davis@reddoorfood.com or call 470-313-0266.
URL:https://euharlee.com/event/mobile-food-pantry-with-red-door-6/2026-05-07/
LOCATION:Covered Bridge\, 114 Covered Bridge Road\, Euharlee\, GA\, 30120\, United States
CATEGORIES:City Event
END:VEVENT
BEGIN:VEVENT
DTSTART;TZID=America/New_York:20260604T130000
DTEND;TZID=America/New_York:20260604T150000
DTSTAMP:20260423T083855
CREATED:20260227T000908Z
LAST-MODIFIED:20260303T175647Z
UID:10000714-1780578000-1780585200@euharlee.com
SUMMARY:Mobile Food Pantry with Red Door
DESCRIPTION:Are you in need of extra support? Visit our Monthly Mobile Food Pantry with Red Door Food Pantry. Pre-registration not required. For more information\, visit ashley.davis@reddoorfood.com or call 470-313-0266.
URL:https://euharlee.com/event/mobile-food-pantry-with-red-door-6/2026-06-04/
LOCATION:Covered Bridge\, 114 Covered Bridge Road\, Euharlee\, GA\, 30120\, United States
CATEGORIES:City Event
END:VEVENT
BEGIN:VEVENT
DTSTART;TZID=America/New_York:20260702T130000
DTEND;TZID=America/New_York:20260702T150000
DTSTAMP:20260423T083855
CREATED:20260227T000908Z
LAST-MODIFIED:20260303T175647Z
UID:10000715-1782997200-1783004400@euharlee.com
SUMMARY:Mobile Food Pantry with Red Door
DESCRIPTION:Are you in need of extra support? Visit our Monthly Mobile Food Pantry with Red Door Food Pantry. Pre-registration not required. For more information\, visit ashley.davis@reddoorfood.com or call 470-313-0266.
URL:https://euharlee.com/event/mobile-food-pantry-with-red-door-6/2026-07-02/
LOCATION:Covered Bridge\, 114 Covered Bridge Road\, Euharlee\, GA\, 30120\, United States
CATEGORIES:City Event
END:VEVENT
BEGIN:VEVENT
DTSTART;TZID=America/New_York:20260806T130000
DTEND;TZID=America/New_York:20260806T150000
DTSTAMP:20260423T083855
CREATED:20260227T000908Z
LAST-MODIFIED:20260303T175647Z
UID:10000716-1786021200-1786028400@euharlee.com
SUMMARY:Mobile Food Pantry with Red Door
DESCRIPTION:Are you in need of extra support? Visit our Monthly Mobile Food Pantry with Red Door Food Pantry. Pre-registration not required. For more information\, visit ashley.davis@reddoorfood.com or call 470-313-0266.
URL:https://euharlee.com/event/mobile-food-pantry-with-red-door-6/2026-08-06/
LOCATION:Covered Bridge\, 114 Covered Bridge Road\, Euharlee\, GA\, 30120\, United States
CATEGORIES:City Event
END:VEVENT
BEGIN:VEVENT
DTSTART;TZID=America/New_York:20260903T130000
DTEND;TZID=America/New_York:20260903T150000
DTSTAMP:20260423T083855
CREATED:20260227T000908Z
LAST-MODIFIED:20260303T175647Z
UID:10000717-1788440400-1788447600@euharlee.com
SUMMARY:Mobile Food Pantry with Red Door
DESCRIPTION:Are you in need of extra support? Visit our Monthly Mobile Food Pantry with Red Door Food Pantry. Pre-registration not required. For more information\, visit ashley.davis@reddoorfood.com or call 470-313-0266.
URL:https://euharlee.com/event/mobile-food-pantry-with-red-door-6/2026-09-03/
LOCATION:Covered Bridge\, 114 Covered Bridge Road\, Euharlee\, GA\, 30120\, United States
CATEGORIES:City Event
END:VEVENT
BEGIN:VEVENT
DTSTART;TZID=America/New_York:20261001T130000
DTEND;TZID=America/New_York:20261001T150000
DTSTAMP:20260423T083855
CREATED:20260227T000908Z
LAST-MODIFIED:20260303T175647Z
UID:10000718-1790859600-1790866800@euharlee.com
SUMMARY:Mobile Food Pantry with Red Door
DESCRIPTION:Are you in need of extra support? Visit our Monthly Mobile Food Pantry with Red Door Food Pantry. Pre-registration not required. For more information\, visit ashley.davis@reddoorfood.com or call 470-313-0266.
URL:https://euharlee.com/event/mobile-food-pantry-with-red-door-6/2026-10-01/
LOCATION:Covered Bridge\, 114 Covered Bridge Road\, Euharlee\, GA\, 30120\, United States
CATEGORIES:City Event
END:VEVENT
BEGIN:VEVENT
DTSTART;TZID=America/New_York:20261105T130000
DTEND;TZID=America/New_York:20261105T150000
DTSTAMP:20260423T083855
CREATED:20260227T000908Z
LAST-MODIFIED:20260303T175647Z
UID:10000719-1793883600-1793890800@euharlee.com
SUMMARY:Mobile Food Pantry with Red Door
DESCRIPTION:Are you in need of extra support? Visit our Monthly Mobile Food Pantry with Red Door Food Pantry. Pre-registration not required. For more information\, visit ashley.davis@reddoorfood.com or call 470-313-0266.
URL:https://euharlee.com/event/mobile-food-pantry-with-red-door-6/2026-11-05/
LOCATION:Covered Bridge\, 114 Covered Bridge Road\, Euharlee\, GA\, 30120\, United States
CATEGORIES:City Event
END:VEVENT
BEGIN:VEVENT
DTSTART;TZID=America/New_York:20261203T130000
DTEND;TZID=America/New_York:20261203T150000
DTSTAMP:20260423T083855
CREATED:20260227T000908Z
LAST-MODIFIED:20260303T175647Z
UID:10000720-1796302800-1796310000@euharlee.com
SUMMARY:Mobile Food Pantry with Red Door
DESCRIPTION:Are you in need of extra support? Visit our Monthly Mobile Food Pantry with Red Door Food Pantry. Pre-registration not required. For more information\, visit ashley.davis@reddoorfood.com or call 470-313-0266.
URL:https://euharlee.com/event/mobile-food-pantry-with-red-door-6/2026-12-03/
LOCATION:Covered Bridge\, 114 Covered Bridge Road\, Euharlee\, GA\, 30120\, United States
CATEGORIES:City Event
END:VEVENT
END:VCALENDAR