BEGIN:VCALENDAR
VERSION:2.0
PRODID:-//City of Euharlee - ECPv6.15.15//NONSGML v1.0//EN
CALSCALE:GREGORIAN
METHOD:PUBLISH
X-WR-CALNAME:City of Euharlee
X-ORIGINAL-URL:https://euharlee.com
X-WR-CALDESC:Events for City of Euharlee
REFRESH-INTERVAL;VALUE=DURATION:PT1H
X-Robots-Tag:noindex
X-PUBLISHED-TTL:PT1H
BEGIN:VTIMEZONE
TZID:America/New_York
BEGIN:DAYLIGHT
TZOFFSETFROM:-0500
TZOFFSETTO:-0400
TZNAME:EDT
DTSTART:20250309T070000
END:DAYLIGHT
BEGIN:STANDARD
TZOFFSETFROM:-0400
TZOFFSETTO:-0500
TZNAME:EST
DTSTART:20251102T060000
END:STANDARD
BEGIN:DAYLIGHT
TZOFFSETFROM:-0500
TZOFFSETTO:-0400
TZNAME:EDT
DTSTART:20260308T070000
END:DAYLIGHT
BEGIN:STANDARD
TZOFFSETFROM:-0400
TZOFFSETTO:-0500
TZNAME:EST
DTSTART:20261101T060000
END:STANDARD
BEGIN:DAYLIGHT
TZOFFSETFROM:-0500
TZOFFSETTO:-0400
TZNAME:EDT
DTSTART:20270314T070000
END:DAYLIGHT
BEGIN:STANDARD
TZOFFSETFROM:-0400
TZOFFSETTO:-0500
TZNAME:EST
DTSTART:20271107T060000
END:STANDARD
BEGIN:DAYLIGHT
TZOFFSETFROM:-0500
TZOFFSETTO:-0400
TZNAME:EDT
DTSTART:20280312T070000
END:DAYLIGHT
BEGIN:STANDARD
TZOFFSETFROM:-0400
TZOFFSETTO:-0500
TZNAME:EST
DTSTART:20281105T060000
END:STANDARD
BEGIN:DAYLIGHT
TZOFFSETFROM:-0500
TZOFFSETTO:-0400
TZNAME:EDT
DTSTART:20290311T070000
END:DAYLIGHT
BEGIN:STANDARD
TZOFFSETFROM:-0400
TZOFFSETTO:-0500
TZNAME:EST
DTSTART:20291104T060000
END:STANDARD
BEGIN:DAYLIGHT
TZOFFSETFROM:-0500
TZOFFSETTO:-0400
TZNAME:EDT
DTSTART:20300310T070000
END:DAYLIGHT
BEGIN:STANDARD
TZOFFSETFROM:-0400
TZOFFSETTO:-0500
TZNAME:EST
DTSTART:20301103T060000
END:STANDARD
BEGIN:DAYLIGHT
TZOFFSETFROM:-0500
TZOFFSETTO:-0400
TZNAME:EDT
DTSTART:20310309T070000
END:DAYLIGHT
BEGIN:STANDARD
TZOFFSETFROM:-0400
TZOFFSETTO:-0500
TZNAME:EST
DTSTART:20311102T060000
END:STANDARD
END:VTIMEZONE
BEGIN:VEVENT
DTSTART;VALUE=DATE:20260525
DTEND;VALUE=DATE:20260526
DTSTAMP:20260207T130240
CREATED:20251014T140954Z
LAST-MODIFIED:20251014T140954Z
UID:10000634-1779667200-1779753599@euharlee.com
SUMMARY:City Hall Closed
DESCRIPTION:
URL:https://euharlee.com/event/city-hall-closed-18/2026-05-25/
END:VEVENT
BEGIN:VEVENT
DTSTART;VALUE=DATE:20270531
DTEND;VALUE=DATE:20270601
DTSTAMP:20260207T130240
CREATED:20251014T140954Z
LAST-MODIFIED:20251014T140954Z
UID:10000635-1811721600-1811807999@euharlee.com
SUMMARY:City Hall Closed
DESCRIPTION:
URL:https://euharlee.com/event/city-hall-closed-18/2027-05-31/
END:VEVENT
BEGIN:VEVENT
DTSTART;VALUE=DATE:20280529
DTEND;VALUE=DATE:20280530
DTSTAMP:20260207T130240
CREATED:20251014T140954Z
LAST-MODIFIED:20251014T140954Z
UID:10000636-1843171200-1843257599@euharlee.com
SUMMARY:City Hall Closed
DESCRIPTION:
URL:https://euharlee.com/event/city-hall-closed-18/2028-05-29/
END:VEVENT
BEGIN:VEVENT
DTSTART;VALUE=DATE:20290528
DTEND;VALUE=DATE:20290529
DTSTAMP:20260207T130241
CREATED:20251014T140954Z
LAST-MODIFIED:20251014T140954Z
UID:10000637-1874620800-1874707199@euharlee.com
SUMMARY:City Hall Closed
DESCRIPTION:
URL:https://euharlee.com/event/city-hall-closed-18/2029-05-28/
END:VEVENT
BEGIN:VEVENT
DTSTART;VALUE=DATE:20300527
DTEND;VALUE=DATE:20300528
DTSTAMP:20260207T130241
CREATED:20251014T140954Z
LAST-MODIFIED:20251014T140954Z
UID:10000638-1906070400-1906156799@euharlee.com
SUMMARY:City Hall Closed
DESCRIPTION:
URL:https://euharlee.com/event/city-hall-closed-18/2030-05-27/
END:VEVENT
END:VCALENDAR