BEGIN:VCALENDAR
VERSION:2.0
PRODID:-//City of Euharlee - ECPv6.15.20//NONSGML v1.0//EN
CALSCALE:GREGORIAN
METHOD:PUBLISH
X-WR-CALNAME:City of Euharlee
X-ORIGINAL-URL:https://euharlee.com
X-WR-CALDESC:Events for City of Euharlee
REFRESH-INTERVAL;VALUE=DURATION:PT1H
X-Robots-Tag:noindex
X-PUBLISHED-TTL:PT1H
BEGIN:VTIMEZONE
TZID:America/New_York
BEGIN:DAYLIGHT
TZOFFSETFROM:-0500
TZOFFSETTO:-0400
TZNAME:EDT
DTSTART:20240310T070000
END:DAYLIGHT
BEGIN:STANDARD
TZOFFSETFROM:-0400
TZOFFSETTO:-0500
TZNAME:EST
DTSTART:20241103T060000
END:STANDARD
BEGIN:DAYLIGHT
TZOFFSETFROM:-0500
TZOFFSETTO:-0400
TZNAME:EDT
DTSTART:20250309T070000
END:DAYLIGHT
BEGIN:STANDARD
TZOFFSETFROM:-0400
TZOFFSETTO:-0500
TZNAME:EST
DTSTART:20251102T060000
END:STANDARD
BEGIN:DAYLIGHT
TZOFFSETFROM:-0500
TZOFFSETTO:-0400
TZNAME:EDT
DTSTART:20260308T070000
END:DAYLIGHT
BEGIN:STANDARD
TZOFFSETFROM:-0400
TZOFFSETTO:-0500
TZNAME:EST
DTSTART:20261101T060000
END:STANDARD
BEGIN:DAYLIGHT
TZOFFSETFROM:-0500
TZOFFSETTO:-0400
TZNAME:EDT
DTSTART:20270314T070000
END:DAYLIGHT
BEGIN:STANDARD
TZOFFSETFROM:-0400
TZOFFSETTO:-0500
TZNAME:EST
DTSTART:20271107T060000
END:STANDARD
END:VTIMEZONE
BEGIN:VEVENT
DTSTART;TZID=America/New_York:20260217T190000
DTEND;TZID=America/New_York:20260217T200000
DTSTAMP:20260425T170552
CREATED:20251014T135322Z
LAST-MODIFIED:20251014T135322Z
UID:10000264-1771354800-1771358400@euharlee.com
SUMMARY:City Council Meeting
DESCRIPTION:
URL:https://euharlee.com/event/city-council-meeting-21/2026-02-17/
LOCATION:GA
CATEGORIES:City Meeting
END:VEVENT
BEGIN:VEVENT
DTSTART;TZID=America/New_York:20260217T180000
DTEND;TZID=America/New_York:20260217T190000
DTSTAMP:20260425T170552
CREATED:20251014T135511Z
LAST-MODIFIED:20251203T140404Z
UID:10000322-1771351200-1771354800@euharlee.com
SUMMARY:City Council Work Session
DESCRIPTION:
URL:https://euharlee.com/event/city-council-work-session-20/2026-02-17/
LOCATION:GA
CATEGORIES:City Meeting
END:VEVENT
BEGIN:VEVENT
DTSTART;TZID=America/New_York:20260210T190000
DTEND;TZID=America/New_York:20260210T200000
DTSTAMP:20260425T170552
CREATED:20251014T135938Z
LAST-MODIFIED:20251014T135938Z
UID:10000497-1770750000-1770753600@euharlee.com
SUMMARY:Planning & Zoning Commission Meeting
DESCRIPTION:
URL:https://euharlee.com/event/planning-zoning-commission-meeting-26/2026-02-10/
LOCATION:GA
CATEGORIES:City Meeting
END:VEVENT
BEGIN:VEVENT
DTSTART;TZID=America/New_York:20260209T090000
DTEND;TZID=America/New_York:20260209T100000
DTSTAMP:20260425T170552
CREATED:20251014T140051Z
LAST-MODIFIED:20251014T140051Z
UID:10000555-1770627600-1770631200@euharlee.com
SUMMARY:Downtown Development Authority Board Meeting
DESCRIPTION:
URL:https://euharlee.com/event/downtown-development-authority-board-meeting-9/2026-02-09/
LOCATION:GA
CATEGORIES:City Meeting
END:VEVENT
BEGIN:VEVENT
DTSTART;TZID=America/New_York:20260203T190000
DTEND;TZID=America/New_York:20260203T200000
DTSTAMP:20260425T170552
CREATED:20251014T135619Z
LAST-MODIFIED:20251014T135619Z
UID:10000379-1770145200-1770148800@euharlee.com
SUMMARY:City Council Meeting
DESCRIPTION:
URL:https://euharlee.com/event/city-council-meeting-22/2026-02-03/
LOCATION:GA
CATEGORIES:City Meeting
END:VEVENT
BEGIN:VEVENT
DTSTART;TZID=America/New_York:20260203T180000
DTEND;TZID=America/New_York:20260203T190000
DTSTAMP:20260425T170552
CREATED:20251014T135724Z
LAST-MODIFIED:20251014T135724Z
UID:10000439-1770141600-1770145200@euharlee.com
SUMMARY:City Council Work Session
DESCRIPTION:
URL:https://euharlee.com/event/city-council-work-session-21/2026-02-03/
LOCATION:GA
CATEGORIES:City Meeting
END:VEVENT
BEGIN:VEVENT
DTSTART;TZID=America/New_York:20260131T180000
DTEND;TZID=America/New_York:20260131T200000
DTSTAMP:20260425T170552
CREATED:20251218T140824Z
LAST-MODIFIED:20260203T180855Z
UID:10000670-1769882400-1769889600@euharlee.com
SUMMARY:Daddy Daughter Dance - Postponed to 3/7 due to weather
DESCRIPTION:Register Here
URL:https://euharlee.com/event/daddy-daughter-dance/
LOCATION:Woodland Middle School Gymasium
CATEGORIES:City Event
END:VEVENT
BEGIN:VEVENT
DTSTART;TZID=America/New_York:20260120T190000
DTEND;TZID=America/New_York:20260120T200000
DTSTAMP:20260425T170552
CREATED:20251014T135322Z
LAST-MODIFIED:20251014T135322Z
UID:10000263-1768935600-1768939200@euharlee.com
SUMMARY:City Council Meeting
DESCRIPTION:
URL:https://euharlee.com/event/city-council-meeting-21/2026-01-20/
LOCATION:GA
CATEGORIES:City Meeting
END:VEVENT
BEGIN:VEVENT
DTSTART;TZID=America/New_York:20260120T180000
DTEND;TZID=America/New_York:20260120T190000
DTSTAMP:20260425T170552
CREATED:20251014T135511Z
LAST-MODIFIED:20251203T140404Z
UID:10000321-1768932000-1768935600@euharlee.com
SUMMARY:City Council Work Session
DESCRIPTION:
URL:https://euharlee.com/event/city-council-work-session-20/2026-01-20/
LOCATION:GA
CATEGORIES:City Meeting
END:VEVENT
BEGIN:VEVENT
DTSTART;VALUE=DATE:20260119
DTEND;VALUE=DATE:20260120
DTSTAMP:20260425T170552
CREATED:20251014T140828Z
LAST-MODIFIED:20251014T140828Z
UID:10000629-1768780800-1768867199@euharlee.com
SUMMARY:City Hall Closed
DESCRIPTION:
URL:https://euharlee.com/event/city-hall-closed-17/2026-01-19/
LOCATION:GA
END:VEVENT
BEGIN:VEVENT
DTSTART;TZID=America/New_York:20260113T190000
DTEND;TZID=America/New_York:20260113T200000
DTSTAMP:20260425T170552
CREATED:20251014T135938Z
LAST-MODIFIED:20251014T135938Z
UID:10000496-1768330800-1768334400@euharlee.com
SUMMARY:Planning & Zoning Commission Meeting
DESCRIPTION:
URL:https://euharlee.com/event/planning-zoning-commission-meeting-26/2026-01-13/
LOCATION:GA
CATEGORIES:City Meeting
END:VEVENT
BEGIN:VEVENT
DTSTART;TZID=America/New_York:20260112T090000
DTEND;TZID=America/New_York:20260112T100000
DTSTAMP:20260425T170552
CREATED:20251014T140051Z
LAST-MODIFIED:20251014T140051Z
UID:10000554-1768208400-1768212000@euharlee.com
SUMMARY:Downtown Development Authority Board Meeting
DESCRIPTION:
URL:https://euharlee.com/event/downtown-development-authority-board-meeting-9/2026-01-12/
LOCATION:GA
CATEGORIES:City Meeting
END:VEVENT
BEGIN:VEVENT
DTSTART;TZID=America/New_York:20260106T190000
DTEND;TZID=America/New_York:20260106T200000
DTSTAMP:20260425T170552
CREATED:20251014T135619Z
LAST-MODIFIED:20251014T135619Z
UID:10000378-1767726000-1767729600@euharlee.com
SUMMARY:City Council Meeting
DESCRIPTION:
URL:https://euharlee.com/event/city-council-meeting-22/2026-01-06/
LOCATION:GA
CATEGORIES:City Meeting
END:VEVENT
BEGIN:VEVENT
DTSTART;TZID=America/New_York:20260106T180000
DTEND;TZID=America/New_York:20260106T190000
DTSTAMP:20260425T170552
CREATED:20251014T135724Z
LAST-MODIFIED:20251014T135724Z
UID:10000438-1767722400-1767726000@euharlee.com
SUMMARY:City Council Work Session
DESCRIPTION:
URL:https://euharlee.com/event/city-council-work-session-21/2026-01-06/
LOCATION:GA
CATEGORIES:City Meeting
END:VEVENT
BEGIN:VEVENT
DTSTART;VALUE=DATE:20260101
DTEND;VALUE=DATE:20260102
DTSTAMP:20260425T170552
CREATED:20251014T140720Z
LAST-MODIFIED:20251014T140720Z
UID:10000624-1767225600-1767311999@euharlee.com
SUMMARY:City Hall Closed
DESCRIPTION:
URL:https://euharlee.com/event/city-hall-closed-16/2026-01-01/
LOCATION:GA
END:VEVENT
BEGIN:VEVENT
DTSTART;VALUE=DATE:20251224
DTEND;VALUE=DATE:20251226
DTSTAMP:20260425T170552
CREATED:20241218T174155Z
LAST-MODIFIED:20241218T174155Z
UID:10000163-1766534400-1766707199@euharlee.com
SUMMARY:City Hall Closed
DESCRIPTION:
URL:https://euharlee.com/event/city-hall-closed-15/
LOCATION:GA
END:VEVENT
BEGIN:VEVENT
DTSTART;TZID=America/New_York:20251216T190000
DTEND;TZID=America/New_York:20251216T200000
DTSTAMP:20260425T170552
CREATED:20251014T135322Z
LAST-MODIFIED:20251014T135322Z
UID:10000262-1765911600-1765915200@euharlee.com
SUMMARY:City Council Meeting
DESCRIPTION:
URL:https://euharlee.com/event/city-council-meeting-21/2025-12-16/
LOCATION:GA
CATEGORIES:City Meeting
END:VEVENT
BEGIN:VEVENT
DTSTART;TZID=America/New_York:20251216T180000
DTEND;TZID=America/New_York:20251216T190000
DTSTAMP:20260425T170552
CREATED:20251014T135511Z
LAST-MODIFIED:20251203T140404Z
UID:10000320-1765908000-1765911600@euharlee.com
SUMMARY:City Council Work Session
DESCRIPTION:
URL:https://euharlee.com/event/city-council-work-session-20/2025-12-16/
LOCATION:GA
CATEGORIES:City Meeting
END:VEVENT
BEGIN:VEVENT
DTSTART;TZID=America/New_York:20251211T183000
DTEND;TZID=America/New_York:20251211T190000
DTSTAMP:20260425T170552
CREATED:20241218T174155Z
LAST-MODIFIED:20241218T174155Z
UID:10000162-1765477800-1765479600@euharlee.com
SUMMARY:Covered Bridge Carols
DESCRIPTION:
URL:https://euharlee.com/event/covered-bridge-carols-2/
LOCATION:GA
END:VEVENT
BEGIN:VEVENT
DTSTART;TZID=America/New_York:20251209T190000
DTEND;TZID=America/New_York:20251209T200000
DTSTAMP:20260425T170552
CREATED:20250214T153736Z
LAST-MODIFIED:20250214T153736Z
UID:10000191-1765306800-1765310400@euharlee.com
SUMMARY:Planning & Zoning Commission Meeting
DESCRIPTION:
URL:https://euharlee.com/event/planning-zoning-commission-meeting-25/
LOCATION:City Hall\, 30 Burge's Mill Road\, Euharlee\, GA\, 30145\, United States
CATEGORIES:City Meeting
END:VEVENT
BEGIN:VEVENT
DTSTART;TZID=America/New_York:20251208T090000
DTEND;TZID=America/New_York:20251208T090000
DTSTAMP:20260425T170552
CREATED:20241218T174215Z
LAST-MODIFIED:20241218T174215Z
UID:10000170-1765184400-1765184400@euharlee.com
SUMMARY:Downtown Development Authority Board Meeting
DESCRIPTION:
URL:https://euharlee.com/event/downtown-development-authority-board-meeting-8/
LOCATION:City Hall\, 30 Burge's Mill Road\, Euharlee\, GA\, 30145\, United States
END:VEVENT
BEGIN:VEVENT
DTSTART;TZID=America/New_York:20251205T150000
DTEND;TZID=America/New_York:20251205T170000
DTSTAMP:20260425T170552
CREATED:20250514T123148Z
LAST-MODIFIED:20250514T124952Z
UID:10000219-1764946800-1764954000@euharlee.com
SUMMARY:Mobile Food Pantry with Red Door
DESCRIPTION:Are you in need of extra support? Visit our Monthly Mobile Food Pantry with Red Door Food Pantry. Pre-registration not required. For more information\, visit ashley.davis@reddoorfood.com or call 470-313-0266.
URL:https://euharlee.com/event/mobile-food-pantry-with-red-door-5/
LOCATION:Covered Bridge\, 114 Covered Bridge Road\, Euharlee\, GA\, 30120\, United States
CATEGORIES:City Event,Community Event
END:VEVENT
BEGIN:VEVENT
DTSTART;VALUE=DATE:20251205
DTEND;VALUE=DATE:20251206
DTSTAMP:20260425T170552
CREATED:20250813T194720Z
LAST-MODIFIED:20250813T194720Z
UID:10000250-1764892800-1764979199@euharlee.com
SUMMARY:Global Sports Authority for Northwest Georgia Softball Tournament
DESCRIPTION:
URL:https://euharlee.com/event/global-sports-authority-for-northwest-georgia-softball-tournament-5/
LOCATION:Joe Cowan Park\, 100 Euharlee Five Forks Road\, Euharlee\, GA\, 30145\, United States
END:VEVENT
BEGIN:VEVENT
DTSTART;TZID=America/New_York:20251202T190000
DTEND;TZID=America/New_York:20251202T190000
DTSTAMP:20260425T170552
CREATED:20241218T173845Z
LAST-MODIFIED:20241218T173845Z
UID:10000106-1764702000-1764702000@euharlee.com
SUMMARY:City Council Meeting
DESCRIPTION:
URL:https://euharlee.com/event/city-council-meeting-20/
LOCATION:City Hall\, 30 Burge's Mill Road\, Euharlee\, GA\, 30145\, United States
END:VEVENT
BEGIN:VEVENT
DTSTART;TZID=America/New_York:20251202T180000
DTEND;TZID=America/New_York:20251202T190000
DTSTAMP:20260425T170552
CREATED:20251014T135724Z
LAST-MODIFIED:20251014T135724Z
UID:10000437-1764698400-1764702000@euharlee.com
SUMMARY:City Council Work Session
DESCRIPTION:
URL:https://euharlee.com/event/city-council-work-session-21/2025-12-02/
LOCATION:GA
CATEGORIES:City Meeting
END:VEVENT
BEGIN:VEVENT
DTSTART;TZID=America/New_York:20251201T193000
DTEND;TZID=America/New_York:20251201T203000
DTSTAMP:20260425T170552
CREATED:20251121T150340Z
LAST-MODIFIED:20251121T150340Z
UID:10000667-1764617400-1764621000@euharlee.com
SUMMARY:Christmas Unwrapped with Euharlee Baptist Church
DESCRIPTION:Euharlee Baptist Church will host a “Christmas Unwrapped” concert in the Osborne Park Amphitheater featuring the Jonathan Turner Band\, blending praise music with Christmas carols immediately following the parade.
URL:https://euharlee.com/event/christmas-unwrapped-with-euharlee-baptist-church/
LOCATION:Osborne Park\, 111 Covered Bridge Rd\, Euharlee\, GA\, 30145\, United States
CATEGORIES:Community Event
END:VEVENT
BEGIN:VEVENT
DTSTART;TZID=America/New_York:20251201T180000
DTEND;TZID=America/New_York:20251201T190000
DTSTAMP:20260425T170552
CREATED:20241218T174155Z
LAST-MODIFIED:20241218T174155Z
UID:10000161-1764612000-1764615600@euharlee.com
SUMMARY:Christmas Parade
DESCRIPTION:
URL:https://euharlee.com/event/christmas-parade-2/
LOCATION:GA
END:VEVENT
BEGIN:VEVENT
DTSTART;VALUE=DATE:20251201
DTEND;VALUE=DATE:20251202
DTSTAMP:20260425T170552
CREATED:20241218T174154Z
LAST-MODIFIED:20241218T174154Z
UID:10000160-1764547200-1764633599@euharlee.com
SUMMARY:City Hall Closed
DESCRIPTION:
URL:https://euharlee.com/event/city-hall-closed-14/
LOCATION:GA
END:VEVENT
BEGIN:VEVENT
DTSTART;TZID=America/New_York:20251129T180000
DTEND;TZID=America/New_York:20251206T210000
DTSTAMP:20260425T170552
CREATED:20241218T174139Z
LAST-MODIFIED:20251001T180838Z
UID:10000158-1764439200-1765054800@euharlee.com
SUMMARY:Festival of Trees
DESCRIPTION:
URL:https://euharlee.com/event/festival-of-trees-2/
LOCATION:GA
CATEGORIES:Community Event
END:VEVENT
BEGIN:VEVENT
DTSTART;VALUE=DATE:20251127
DTEND;VALUE=DATE:20251128
DTSTAMP:20260425T170552
CREATED:20251014T154739Z
LAST-MODIFIED:20251014T154739Z
UID:10000649-1764201600-1764287999@euharlee.com
SUMMARY:City Hall Closed
DESCRIPTION:
URL:https://euharlee.com/event/city-hall-closed-20/2025-11-27/
LOCATION:GA
END:VEVENT
END:VCALENDAR